BEGIN:VCALENDAR
VERSION:2.0
PRODID:DPCALENDAR
CALSCALE:GREGORIAN
BEGIN:VTIMEZONE
TZID:Europe/Berlin
X-MICROSOFT-CDO-TZID:4
BEGIN:STANDARD
DTSTART:20251026T010000
TZOFFSETFROM:+0200
TZOFFSETTO:+0100
TZNAME:CET
END:STANDARD
BEGIN:STANDARD
DTSTART:20261025T010000
TZOFFSETFROM:+0200
TZOFFSETTO:+0100
TZNAME:CET
END:STANDARD
BEGIN:DAYLIGHT
DTSTART:20260329T010000
TZOFFSETFROM:+0100
TZOFFSETTO:+0200
TZNAME:CEST
END:DAYLIGHT
END:VTIMEZONE
X-WR-TIMEZONE:Europe/Berlin
BEGIN:VEVENT
DTSTART;VALUE=DATE:20231222
DTEND;VALUE=DATE:20240102
UID:5B510F06-8E38-4735-B3DC-705FB4C10AD0
SUMMARY:Schließung Akademie / Weihnachtspause
CREATED:20231204T102349Z
DTSTAMP:20231204T102349Z
URL:https://www.adbk.de/de/component/dpcalendar/event/2895.html?calid=387
DESCRIPTION:Wir wünschen frohe Feiertage!
X-ALT-DESC;FMTTYPE=text/html:Wir wünschen frohe Feiertage!
LAST-MODIFIED:20231222T082336Z
SEQUENCE:1547987
X-ACCESS:1
X-HITS:0
X-COLOR:3366cc
X-SHOW-END-TIME:1
END:VEVENT
BEGIN:VEVENT
DTSTART;TZID=Europe/Berlin:20231225T230000
DTEND;TZID=Europe/Berlin:20231226T000000
UID:7B5953AD-8719-46E1-A9A8-CB2AFA8CA8EE
SUMMARY:Lakuti
CREATED:20231226T162342Z
DTSTAMP:20231226T162342Z
URL:https://www.adbk.de/de/component/dpcalendar/event/2909.html?calid=387
LAST-MODIFIED:20231226T162340Z
SEQUENCE:-2
X-ACCESS:1
X-HITS:0
X-COLOR:3366cc
X-SHOW-END-TIME:1
END:VEVENT
BEGIN:VEVENT
DTSTART;TZID=Europe/Berlin:20240103T183000
DTEND;TZID=Europe/Berlin:20240103T223000
UID:0C92728B-A9FA-46D9-BA9C-8605CE1A4AD8
SUMMARY:Gaga Dance - hopphopp
CREATED:20231225T163617Z
DTSTAMP:20231225T163617Z
URL:https://www.adbk.de/de/component/dpcalendar/event/2908.html?calid=387
LAST-MODIFIED:20240104T065203Z
SEQUENCE:828946
X-ACCESS:1
X-HITS:0
X-COLOR:3366cc
X-SHOW-END-TIME:1
END:VEVENT
BEGIN:VEVENT
DTSTART;VALUE=DATE:20240115
DTEND;VALUE=DATE:20240116
UID:394C313F-3A55-4A1F-9E22-F0080C941B85
SUMMARY:Ende Rückmeldung Kunstpädagogik (Überweisung Semesterbeträge)
CREATED:20231220T101014Z
DTSTAMP:20231220T101014Z
URL:https://www.adbk.de/de/component/dpcalendar/event/2906.html?calid=387
DESCRIPTION:Weitere Informationen
X-ALT-DESC;FMTTYPE=text/html:Weitere Informationen
LAST-MODIFIED:20240114T161042Z
SEQUENCE:2181628
X-ACCESS:1
X-HITS:0
X-COLOR:3366cc
X-SHOW-END-TIME:0
END:VEVENT
BEGIN:VEVENT
DTSTART;VALUE=DATE:20240131
DTEND;VALUE=DATE:20240201
UID:2460F6B9-1C5F-44DE-8025-D69EF6ECC61F
SUMMARY:Ende Rückmeldung alle anderen Studiengänge (Überweisung Semesterbeträge)
CREATED:20231204T101954Z
DTSTAMP:20231204T101954Z
URL:https://www.adbk.de/de/component/dpcalendar/event/2898.html?calid=387
DESCRIPTION:Weitere Informationen
X-ALT-DESC;FMTTYPE=text/html:<p><a href="https://www.adbk.de/de/studium/organisatorisches/389-rueckmeldung.html" target="_blank" rel="noopener">Weitere Informationen</a></p>
LAST-MODIFIED:20231220T101044Z
SEQUENCE:1381850
X-ACCESS:1
X-HITS:0
X-COLOR:3366cc
X-SHOW-END-TIME:0
END:VEVENT
BEGIN:VEVENT
DTSTART;TZID=Europe/Berlin:20240208T180000
DTEND;TZID=Europe/Berlin:20240208T220000
UID:6387C24B-3459-46F9-88DF-32C8D43FCB8A
SUMMARY:Eröffnung Diplomausstellung, Foyer Neubau
CREATED:20231204T102210Z
DTSTAMP:20231204T102210Z
URL:https://www.adbk.de/de/component/dpcalendar/event/2894.html?calid=387
DESCRIPTION:Weitere Informationen
X-ALT-DESC;FMTTYPE=text/html:<p><a href="https://www.adbk.de/de/aktuell/aktuell-blog/4483-diplom-2024.html" target="_blank" rel="noopener">Weitere Informationen</a></p>
LAST-MODIFIED:20240206T095315Z
SEQUENCE:5527865
X-ACCESS:1
X-HITS:0
X-COLOR:3366cc
X-SHOW-END-TIME:0
END:VEVENT
BEGIN:VEVENT
DTSTART;VALUE=DATE:20240209
DTEND;VALUE=DATE:20240210
UID:294FA1DA-2D42-41B9-A431-15F81338776D
SUMMARY:Ende Wintersemester 2023/24
CREATED:20231204T101732Z
DTSTAMP:20231204T101732Z
URL:https://www.adbk.de/de/component/dpcalendar/event/2891.html?calid=387
LAST-MODIFIED:20231204T101826Z
SEQUENCE:54
X-ACCESS:1
X-HITS:0
X-COLOR:3366cc
X-SHOW-END-TIME:0
END:VEVENT
BEGIN:VEVENT
DTSTART;VALUE=DATE:20240209
DTEND;VALUE=DATE:20240214
UID:F6E53665-C1DA-4EF0-A7B3-DDD529AF545E
SUMMARY:Diplomausstellung 2024
CREATED:20231204T102133Z
DTSTAMP:20231204T102133Z
URL:https://www.adbk.de/de/component/dpcalendar/event/2893.html?calid=387
X-ACCESS:1
X-HITS:0
X-COLOR:3366cc
X-SHOW-END-TIME:1
END:VEVENT
BEGIN:VEVENT
DTSTART;VALUE=DATE:20240228
DTEND;VALUE=DATE:20240229
UID:5DC461BA-099B-4286-85CC-78AB5D844477
SUMMARY:Ende Bewerbungsfrist Erasmus Outgoing 2024/2025
CREATED:20231220T094124Z
DTSTAMP:20231220T094124Z
URL:https://www.adbk.de/de/component/dpcalendar/event/2903.html?calid=387
DESCRIPTION:Weitere Informationen
X-ALT-DESC;FMTTYPE=text/html:<p><a href="https://www.adbk.de/de/international/outgoing/40-erasmus-studium.html" target="_blank" rel="noopener">Weitere Informationen</a></p>
LAST-MODIFIED:20231220T094417Z
SEQUENCE:173
X-ACCESS:1
X-HITS:0
X-COLOR:3366cc
X-SHOW-END-TIME:0
END:VEVENT
BEGIN:VEVENT
DTSTART;VALUE=DATE:20240301
DTEND;VALUE=DATE:20240302
UID:8F53B178-62DF-48CC-B77D-BD7B1BF789AC
SUMMARY:Beginn Bewerbungsfrist für alle Studiengänge
CREATED:20231220T094657Z
DTSTAMP:20231220T094657Z
URL:https://www.adbk.de/de/component/dpcalendar/event/2905.html?calid=387
DESCRIPTION:Weitere Informationen
X-ALT-DESC;FMTTYPE=text/html:<p><a href="https://www.adbk.de/de/studium/bewerbung.html" target="_blank" rel="noopener">Weitere Informationen</a></p>
X-ACCESS:1
X-HITS:0
X-COLOR:3366cc
X-SHOW-END-TIME:0
END:VEVENT
BEGIN:VEVENT
DTSTART;VALUE=DATE:20240415
DTEND;VALUE=DATE:20240416
UID:4AEF2053-7DBD-40F4-B5F5-68BE01ADED02
SUMMARY:Beginn Vorlesungszeit Sommersemester 2024
CREATED:20231204T103726Z
DTSTAMP:20231204T103726Z
URL:https://www.adbk.de/de/component/dpcalendar/event/2896.html?calid=387
LAST-MODIFIED:20240216T091122Z
SEQUENCE:6388436
X-ACCESS:1
X-HITS:0
X-COLOR:3366cc
X-SHOW-END-TIME:0
END:VEVENT
BEGIN:VEVENT
DTSTART;VALUE=DATE:20240430
DTEND;VALUE=DATE:20240501
UID:7E50F24E-5091-41B4-9731-0BD3B5C22A3F
SUMMARY:Ende Bewerbungsfrist für Innenarchitektur
CREATED:20231106T135256Z
DTSTAMP:20231106T135256Z
URL:https://www.adbk.de/de/component/dpcalendar/event/2885.html?calid=387
DESCRIPTION:\NWeitere Informationen
X-ALT-DESC;FMTTYPE=text/html:<p><a href="https://www.adbk.de/de/studium/bewerbung.html" target="_blank" rel="noopener">Weitere Informationen</a></p>
LAST-MODIFIED:20231220T094445Z
SEQUENCE:3786709
X-ACCESS:1
X-HITS:0
X-COLOR:3366cc
X-SHOW-END-TIME:0
END:VEVENT
BEGIN:VEVENT
DTSTART;VALUE=DATE:20240515
DTEND;VALUE=DATE:20240516
UID:395FBCDB-8FC7-45B6-B244-9C69C26B340E
SUMMARY:Ende Bewerbungsfrist für alle Studiengänge außer Innenarchitektur (Posteingang an der Akademie)
CREATED:20231106T135321Z
DTSTAMP:20231106T135321Z
URL:https://www.adbk.de/de/component/dpcalendar/event/2886.html?calid=387
DESCRIPTION:Weitere Informationen
X-ALT-DESC;FMTTYPE=text/html:<p><a href="https://www.adbk.de/de/studium/bewerbung.html" target="_blank" rel="noopener">Weitere Informationen</a></p>
LAST-MODIFIED:20231220T094453Z
SEQUENCE:3786692
X-ACCESS:1
X-HITS:0
X-COLOR:3366cc
X-SHOW-END-TIME:0
END:VEVENT
BEGIN:VEVENT
DTSTART;VALUE=DATE:20240515
DTEND;VALUE=DATE:20240516
UID:384150A2-ECEC-4BA0-AC16-446C100DEE2B
SUMMARY:Ende Bewerbungsfrist Erasmus / Global Exchange Incoming Students 
CREATED:20231220T094346Z
DTSTAMP:20231220T094346Z
URL:https://www.adbk.de/de/component/dpcalendar/event/2904.html?calid=387
DESCRIPTION:Weitere Informationen
X-ALT-DESC;FMTTYPE=text/html:<p><a href="https://www.adbk.de/de/international/incoming.html" target="_blank" rel="noopener">Weitere Informationen</a></p>
LAST-MODIFIED:20240318T082839Z
SEQUENCE:7685093
X-ACCESS:1
X-HITS:0
X-COLOR:3366cc
X-SHOW-END-TIME:0
END:VEVENT
BEGIN:VEVENT
DTSTART;TZID=Europe/Berlin:20240517T090000
DTEND;TZID=Europe/Berlin:20240517T120000
UID:20240516T072314Z-66148508853@fe80:0:0:0:2881:2aff:fe6b:deebeth0
SUMMARY:ZOOM TheLongRun
CREATED:20240516T072318Z
DTSTAMP:20240516T072318Z
URL:https://www.adbk.de/de/component/dpcalendar/event/2998.html?calid=387
DESCRIPTION:Notburga Karl lädt Sie zu einem geplanten Zoom-Meeting ein.\N\NBeitreten Zoom Meeting\Nhttps://kunsthochschule-bayern.zoom-x.de/j/66148508853?pwd=RmJrRUxkY0cxYTZrWG8xL3U1a08rdz09\N\NMeeting-ID: 661 4850 8853\NKenncode: thelongrun\N\N
X-ALT-DESC;FMTTYPE=text/html:Notburga Karl lädt Sie zu einem geplanten Zoom-Meeting ein.Beitreten Zoom Meetinghttps://kunsthochschule-bayern.zoom-x.de/j/66148508853?pwd=RmJrRUxkY0cxYTZrWG8xL3U1a08rdz09Meeting-ID: 661 4850 8853Kenncode: thelongrun
LAST-MODIFIED:20240516T072314Z
SEQUENCE:-4
LOCATION:
GEO:0.00000000;0.00000000
X-LOCATION-DISPLAYNAME:https://kunsthochschule-bayern.zoom-x.de/j/66148508853?pwd=RmJrRUxkY0cxYTZrWG8xL3U1a08rdz09
X-ACCESS:1
X-HITS:0
X-COLOR:3366cc
X-SHOW-END-TIME:1
END:VEVENT
BEGIN:VEVENT
DTSTART;VALUE=DATE:20240719
DTEND;VALUE=DATE:20240720
UID:FFBA2224-6BA2-4180-BC2A-8021F79A5AD9
SUMMARY:Ende Sommersemester 2024
CREATED:20231214T103957Z
DTSTAMP:20231214T103957Z
URL:https://www.adbk.de/de/component/dpcalendar/event/2901.html?calid=387
X-ACCESS:1
X-HITS:0
X-COLOR:3366cc
X-SHOW-END-TIME:0
END:VEVENT
BEGIN:VEVENT
DTSTART;VALUE=DATE:20240720
DTEND;VALUE=DATE:20240729
UID:04FECEFC-85D7-4DE2-B386-F216A48CA52E
SUMMARY:Jahresausstellung 2024
CREATED:20231204T104346Z
DTSTAMP:20231204T104346Z
URL:https://www.adbk.de/de/component/dpcalendar/event/2897.html?calid=387
DESCRIPTION:Weitere Informationen
X-ALT-DESC;FMTTYPE=text/html:<p><a href="https://www.adbk.de/de/aktuell/aktuell-blog/4651-jahresausstellung-2024.html" target="_blank" rel="noopener">Weitere Informationen</a></p>
LAST-MODIFIED:20240711T091427Z
SEQUENCE:19002641
X-ACCESS:1
X-HITS:0
X-COLOR:3366cc
X-SHOW-END-TIME:1
END:VEVENT
BEGIN:VEVENT
DTSTART;VALUE=DATE:20241011
DTEND;VALUE=DATE:20241016
UID:3031B535-116C-4F0F-B50E-176FFC689364
SUMMARY:Examensausstellung 2024
CREATED:20240910T094811Z
DTSTAMP:20240910T094811Z
URL:https://www.adbk.de/de/aktuell/aktuell-blog/examen-2024.html
DESCRIPTION:Im Rahmen der Examensausstellung zeigen die Absolventinnen (m/w/d) aus den Klassen für Kunstpädagogik Arbeiten aus ihrer Studienzeit und Prüfungsarbeiten.
X-ALT-DESC;FMTTYPE=text/html:<p>Im Rahmen der Examensausstellung zeigen die Absolventinnen (m/w/d) aus den Klassen für Kunstpädagogik Arbeiten aus ihrer Studienzeit und Prüfungsarbeiten.</p>
LAST-MODIFIED:20240910T095428Z
SEQUENCE:377
X-ACCESS:1
X-HITS:0
X-COLOR:3366cc
X-SHOW-END-TIME:1
END:VEVENT
BEGIN:VEVENT
DTSTART;VALUE=DATE:20241014
DTEND;VALUE=DATE:20241015
UID:40FC8159-40DF-41E4-BBA6-3E348219DA4E
SUMMARY:Beginn Wintersemester 2024/25
CREATED:20240711T091125Z
DTSTAMP:20240711T091125Z
URL:https://www.adbk.de/de/component/dpcalendar/event/3014.html?calid=387
LAST-MODIFIED:20240711T091237Z
SEQUENCE:72
X-ACCESS:1
X-HITS:0
X-COLOR:3366cc
X-SHOW-END-TIME:0
END:VEVENT
BEGIN:VEVENT
DTSTART;VALUE=DATE:20241218
DTEND;VALUE=DATE:20241220
UID:7F0DB75A-C089-41CC-A9AE-CE91AC01BB5B
SUMMARY:Mappenforum Kunstpädagogik
CREATED:20241031T074036Z
DTSTAMP:20241031T074036Z
URL:https://www.adbk.de/de/studium/lehrangebot/kunstpaedagogik/sekretariat-kunstpaedagogik.html
LAST-MODIFIED:20241217T100556Z
SEQUENCE:4069520
X-ACCESS:1
X-HITS:0
X-COLOR:3366cc
X-SHOW-END-TIME:1
END:VEVENT
BEGIN:VEVENT
DTSTART;VALUE=DATE:20241220
DTEND;VALUE=DATE:20250102
UID:1E2C5D5F-E8B0-41A4-9C55-113F89AD6CF6
SUMMARY:Schließung Akademie - Weihnachtspause
CREATED:20241106T151034Z
DTSTAMP:20241106T151034Z
URL:https://www.adbk.de/de/component/dpcalendar/event/3050.html?calid=387
LAST-MODIFIED:20241106T151034Z
SEQUENCE:0
X-ACCESS:1
X-HITS:0
X-COLOR:3366cc
X-SHOW-END-TIME:1
END:VEVENT
BEGIN:VEVENT
DTSTART;VALUE=DATE:20250131
DTEND;VALUE=DATE:20250201
UID:85523154-5DFD-4383-96BF-4FB7A364BA5D
SUMMARY:Ende Rückmeldefrist Sommersemester 2025
CREATED:20240711T091350Z
DTSTAMP:20240711T091350Z
URL:https://www.adbk.de/de/component/dpcalendar/event/3016.html?calid=387
DESCRIPTION:Weitere Informationen
X-ALT-DESC;FMTTYPE=text/html:<p><a href="https://www.adbk.de/de/studium/studienorganisation/rueckmeldung.html" target="_blank" rel="noopener">Weitere Informationen</a></p>
LAST-MODIFIED:20250103T112020Z
SEQUENCE:15213990
X-ACCESS:1
X-HITS:0
X-COLOR:3366cc
X-SHOW-END-TIME:0
END:VEVENT
BEGIN:VEVENT
DTSTART;VALUE=DATE:20250206
DTEND;VALUE=DATE:20250212
UID:EAAE97A7-4C2F-4702-98E9-7BC6F2F1D7F1
SUMMARY:Diplomausstellung
CREATED:20241106T151130Z
DTSTAMP:20241106T151130Z
URL:https://www.adbk.de/de/component/dpcalendar/event/3051.html?calid=387
DESCRIPTION:Weitere Informationen
X-ALT-DESC;FMTTYPE=text/html:<p>Weitere Informationen</p>
LAST-MODIFIED:20250206T092846Z
SEQUENCE:7928236
X-ACCESS:1
X-HITS:0
X-COLOR:3366cc
X-SHOW-END-TIME:1
END:VEVENT
BEGIN:VEVENT
DTSTART;VALUE=DATE:20250207
DTEND;VALUE=DATE:20250208
UID:9F536C8B-1B92-42D2-8E38-0C73C98A7361
SUMMARY:Ende Wintersemester 2024/25
CREATED:20241106T151207Z
DTSTAMP:20241106T151207Z
URL:https://www.adbk.de/de/component/dpcalendar/event/3052.html?calid=387
LAST-MODIFIED:20241106T151207Z
SEQUENCE:0
X-ACCESS:1
X-HITS:0
X-COLOR:3366cc
X-SHOW-END-TIME:0
END:VEVENT
BEGIN:VEVENT
DTSTART;VALUE=DATE:20250315
DTEND;VALUE=DATE:20250316
UID:928ACBA3-0911-447F-A5B0-F65E55E00578
SUMMARY:Öffnung Bewerbungsportal Studienbeginn Wintersemester 2025/26
CREATED:20250103T111910Z
DTSTAMP:20250103T111910Z
URL:https://www.adbk.de/de/component/dpcalendar/event/3059.html?calid=387
DESCRIPTION:Weitere Informationen
X-ALT-DESC;FMTTYPE=text/html:<p><a href="https://www.adbk.de/de/studium/bewerbung/ueberblick.html" target="_blank" rel="noopener">Weitere Informationen</a></p>
LAST-MODIFIED:20250206T160138Z
SEQUENCE:2954548
X-ACCESS:1
X-HITS:0
X-COLOR:3366cc
X-SHOW-END-TIME:0
END:VEVENT
BEGIN:VEVENT
DTSTART;VALUE=DATE:20250315
DTEND;VALUE=DATE:20250516
UID:FB268454-63F8-4891-8CD2-EBF058ED3CAC
SUMMARY:Bewerbung an der Akademie - Studienbeginn Wintersemester 2025/26
CREATED:20250318T080530Z
DTSTAMP:20250318T080530Z
URL:https://www.adbk.de/de/component/dpcalendar/event/3061.html?calid=387
DESCRIPTION:Weitere Informationen
X-ALT-DESC;FMTTYPE=text/html:<p><a href="https://www.adbk.de/de/studium/bewerbung.html" target="_blank" rel="noopener">Weitere Informationen</a></p>
LAST-MODIFIED:20250318T080530Z
SEQUENCE:0
X-ACCESS:1
X-HITS:0
X-COLOR:3366cc
X-SHOW-END-TIME:1
END:VEVENT
BEGIN:VEVENT
DTSTART;VALUE=DATE:20250319
DTEND;VALUE=DATE:20250516
UID:51543A21-88BF-4D31-99D5-A72B53AA2030
SUMMARY:Bewerbung an der Akademie - Studienbeginn Wintersemester 2025/26
CREATED:20250318T080623Z
DTSTAMP:20250318T080623Z
URL:https://www.adbk.de/de/component/dpcalendar/event/3062.html?calid=387
DESCRIPTION:Weitere Informationen
X-ALT-DESC;FMTTYPE=text/html:<p><a href="https://www.adbk.de/de/studium/bewerbung.html" target="_blank" rel="noopener">Weitere Informationen</a></p>
LAST-MODIFIED:20250318T080758Z
SEQUENCE:95
X-ACCESS:1
X-HITS:0
X-COLOR:3366cc
X-SHOW-END-TIME:1
END:VEVENT
BEGIN:VEVENT
DTSTART;VALUE=DATE:20250422
DTEND;VALUE=DATE:20250423
UID:615AC0A5-FA78-4314-9C95-1413CA06AF57
SUMMARY:Beginn Sommersemester 2025
CREATED:20241106T151346Z
DTSTAMP:20241106T151346Z
URL:https://www.adbk.de/de/component/dpcalendar/event/3053.html?calid=387
LAST-MODIFIED:20250422T082607Z
SEQUENCE:14404341
X-ACCESS:1
X-HITS:0
X-COLOR:3366cc
X-SHOW-END-TIME:0
END:VEVENT
BEGIN:VEVENT
DTSTART;VALUE=DATE:20250430
DTEND;VALUE=DATE:20250501
UID:1C392011-1B56-4B94-9AC2-01D33AF6F6DE
SUMMARY:Ende Bewerbungsfrist Innenarchitektur
CREATED:20250103T111657Z
DTSTAMP:20250103T111657Z
URL:https://www.adbk.de/de/component/dpcalendar/event/3057.html?calid=387
LAST-MODIFIED:20250103T111657Z
SEQUENCE:0
X-ACCESS:1
X-HITS:0
X-COLOR:3366cc
X-SHOW-END-TIME:0
END:VEVENT
BEGIN:VEVENT
DTSTART;VALUE=DATE:20250515
DTEND;VALUE=DATE:20250516
UID:315E3E19-D2A5-4402-A75E-3FF1B1337A75
SUMMARY:Ende Bewerbungsfrist Freie Kunst, Kunstpädagogik, Architektur und Kunst, Bildnerisches Gestalten und Therapie
CREATED:20250103T111755Z
DTSTAMP:20250103T111755Z
URL:https://www.adbk.de/de/component/dpcalendar/event/3058.html?calid=387
LAST-MODIFIED:20250103T111755Z
SEQUENCE:0
X-ACCESS:1
X-HITS:0
X-COLOR:3366cc
X-SHOW-END-TIME:0
END:VEVENT
BEGIN:VEVENT
DTSTART;VALUE=DATE:20250630
DTEND;VALUE=DATE:20250701
UID:DCB7EF18-033A-4ECB-9786-54DBC3A71C28
SUMMARY:Anmeldeschluss Diplom 2026
CREATED:20250514T104149Z
DTSTAMP:20250514T104149Z
URL:https://www.adbk.de/de/component/dpcalendar/event/3064.html?calid=387
DESCRIPTION:Weitere Informationen
X-ALT-DESC;FMTTYPE=text/html:<p><a href="https://www.adbk.de/de/studium/studienorganisation/termine.html" target="_blank" rel="noopener">Weitere Informationen</a></p>
LAST-MODIFIED:20250514T104149Z
SEQUENCE:0
X-ACCESS:1
X-HITS:0
X-COLOR:3366cc
X-SHOW-END-TIME:0
END:VEVENT
BEGIN:VEVENT
DTSTART;VALUE=DATE:20250725
DTEND;VALUE=DATE:20250726
UID:99ABC0A9-E9F7-4B80-8760-05480180A20A
SUMMARY:Ende Sommersemester 2025
CREATED:20241106T151411Z
DTSTAMP:20241106T151411Z
URL:https://www.adbk.de/de/component/dpcalendar/event/3054.html?calid=387
LAST-MODIFIED:20241106T151411Z
SEQUENCE:0
X-ACCESS:1
X-HITS:0
X-COLOR:3366cc
X-SHOW-END-TIME:0
END:VEVENT
BEGIN:VEVENT
DTSTART;VALUE=DATE:20250726
DTEND;VALUE=DATE:20250804
UID:A329B108-192A-478D-8709-237D610DE323
SUMMARY:Jahresausstellung 2025
CREATED:20250318T080851Z
DTSTAMP:20250318T080851Z
URL:https://www.adbk.de/de/component/dpcalendar/event/3063.html?calid=387
DESCRIPTION:Weitere Informationen
X-ALT-DESC;FMTTYPE=text/html:<p><a href="https://www.adbk.de/de/aktuell/aktuell-blog/jahresausstellung-2025.html" target="_blank" rel="noopener">Weitere Informationen</a></p>
LAST-MODIFIED:20250318T080851Z
SEQUENCE:0
X-ACCESS:1
X-HITS:0
X-COLOR:3366cc
X-SHOW-END-TIME:1
END:VEVENT
BEGIN:VEVENT
DTSTART;VALUE=DATE:20250825
DTEND;VALUE=DATE:20250829
UID:76B76721-855C-4CFF-BC50-B1D083C9C28D
SUMMARY:Mappenrückgabe
CREATED:20250523T101041Z
DTSTAMP:20250523T101041Z
URL:https://www.adbk.de/de/component/dpcalendar/event/3068.html?calid=387
DESCRIPTION:Weitere Informationen
X-ALT-DESC;FMTTYPE=text/html:<p><a href="https://www.adbk.de/de/studium/bewerbung/mappenrueckgabe.html" target="_blank" rel="noopener">Weitere Informationen</a></p>
LAST-MODIFIED:20250523T101041Z
SEQUENCE:0
X-ACCESS:1
X-HITS:0
X-COLOR:3366cc
X-SHOW-END-TIME:1
END:VEVENT
BEGIN:VEVENT
DTSTART;VALUE=DATE:20250916
DTEND;VALUE=DATE:20250920
UID:133CBFC8-C1B0-4DC2-B87D-6747D235403E
SUMMARY:Mappenrückgabe
CREATED:20250523T101143Z
DTSTAMP:20250523T101143Z
URL:https://www.adbk.de/de/component/dpcalendar/event/3069.html?calid=387
DESCRIPTION:Weitere Informationen
X-ALT-DESC;FMTTYPE=text/html:<p><a href="https://www.adbk.de/de/studium/bewerbung/mappenrueckgabe.html" target="_blank" rel="noopener">Weitere Informationen</a></p>
LAST-MODIFIED:20250523T101143Z
SEQUENCE:0
X-ACCESS:1
X-HITS:0
X-COLOR:3366cc
X-SHOW-END-TIME:1
END:VEVENT
BEGIN:VEVENT
DTSTART;VALUE=DATE:20251011
DTEND;VALUE=DATE:20251015
UID:E25B42DB-BF29-4B56-8939-C08AAB9528D9
SUMMARY:Examensausstellung Kunstpädagogik
CREATED:20250514T104231Z
DTSTAMP:20250514T104231Z
URL:https://www.adbk.de/de/component/dpcalendar/event/3065.html?calid=387
LAST-MODIFIED:20250514T104231Z
SEQUENCE:0
X-ACCESS:1
X-HITS:0
X-COLOR:3366cc
X-SHOW-END-TIME:1
END:VEVENT
BEGIN:VEVENT
DTSTART;VALUE=DATE:20251013
DTEND;VALUE=DATE:20251014
UID:15080CDA-CF81-4E83-8762-EA8393DD2C47
SUMMARY:Beginn Wintersemester 2025/26
CREATED:20250514T104338Z
DTSTAMP:20250514T104338Z
URL:https://www.adbk.de/de/component/dpcalendar/event/3066.html?calid=387
LAST-MODIFIED:20250514T104338Z
SEQUENCE:0
X-ACCESS:1
X-HITS:0
X-COLOR:3366cc
X-SHOW-END-TIME:0
END:VEVENT
BEGIN:VEVENT
DTSTART;VALUE=DATE:20251213
DTEND;VALUE=DATE:20260117
UID:3BE62F0D-79D7-4D56-A73C-0BF483BD8DE4
SUMMARY:Debütantinnen (m/w/d) 2025 zu Gast im Kunstverein München
CREATED:20250820T075602Z
DTSTAMP:20250820T075602Z
URL:https://www.adbk.de/de/aktuell/aktuell-blog/debuetantinnen-m-w-d-2025.html
DESCRIPTION:Weitere Informationen
X-ALT-DESC;FMTTYPE=text/html:<p><a href="https://www.adbk.de/de/aktuell/aktuell-blog/debuetantinnen-m-w-d-2025.html" target="_blank" rel="noopener">Weitere Informationen</a></p>
LAST-MODIFIED:20250820T075653Z
SEQUENCE:51
X-ACCESS:1
X-HITS:0
X-COLOR:3366cc
X-SHOW-END-TIME:1
END:VEVENT
BEGIN:VEVENT
DTSTART;VALUE=DATE:20251223
DTEND;VALUE=DATE:20260105
UID:8428F878-3B6E-4D2C-9D99-AF7DC6E0EF02
SUMMARY:Weihnachtspause - Schließung der Akademie
CREATED:20250917T101804Z
DTSTAMP:20250917T101804Z
URL:https://www.adbk.de/de/component/dpcalendar/event/3072.html?calid=387
LAST-MODIFIED:20251111T083333Z
SEQUENCE:4745729
X-ACCESS:1
X-HITS:0
X-COLOR:3366cc
X-SHOW-END-TIME:1
END:VEVENT
BEGIN:VEVENT
DTSTART;VALUE=DATE:20260130
DTEND;VALUE=DATE:20260131
UID:DAFD48CD-467A-402F-8127-6509A10E070C
SUMMARY:Frist Rückmeldung Sommersemester 2026
CREATED:20251217T101316Z
DTSTAMP:20251217T101316Z
URL:https://www.adbk.de/de/component/dpcalendar/event/3073.html?calid=387
DESCRIPTION:Weitere Informationen
X-ALT-DESC;FMTTYPE=text/html:<p><a href="https://www.adbk.de/de/studium/studienorganisation/rueckmeldung.html" target="_blank" rel="noopener">Weitere Informationen</a></p>
LAST-MODIFIED:20251217T101330Z
SEQUENCE:14
X-ACCESS:1
X-HITS:0
X-COLOR:3366cc
X-SHOW-END-TIME:0
END:VEVENT
BEGIN:VEVENT
DTSTART;VALUE=DATE:20260205
DTEND;VALUE=DATE:20260211
UID:0CD57A46-1805-4806-AADE-92609D716847
SUMMARY:Diplomausstellung 2026
CREATED:20250820T080902Z
DTSTAMP:20250820T080902Z
URL:https://www.adbk.de/de/component/dpcalendar/event/3071.html?calid=387
LAST-MODIFIED:20250820T080902Z
SEQUENCE:0
X-ACCESS:1
X-HITS:0
X-COLOR:3366cc
X-SHOW-END-TIME:1
END:VEVENT
BEGIN:VEVENT
DTSTART;VALUE=DATE:20260206
DTEND;VALUE=DATE:20260207
UID:0E665967-28D3-403C-9F74-D23456BCD991
SUMMARY:Ende Wintersemester 2025/26
CREATED:20250514T104402Z
DTSTAMP:20250514T104402Z
URL:https://www.adbk.de/de/component/dpcalendar/event/3067.html?calid=387
LAST-MODIFIED:20250514T104402Z
SEQUENCE:0
X-ACCESS:1
X-HITS:0
X-COLOR:3366cc
X-SHOW-END-TIME:0
END:VEVENT
BEGIN:VEVENT
DTSTART;VALUE=DATE:20260315
DTEND;VALUE=DATE:20260316
UID:7C4458CE-28AD-40EC-99B9-0F2B761D41E5
SUMMARY:Beginn Bewerbungsfrist Studienbeginn Wintersemester 2026/27
CREATED:20260108T125024Z
DTSTAMP:20260108T125024Z
URL:https://www.adbk.de/de/component/dpcalendar/event/3079.html?calid=387
LAST-MODIFIED:20260109T103234Z
SEQUENCE:78130
X-ACCESS:1
X-HITS:0
X-COLOR:3366cc
X-SHOW-END-TIME:0
END:VEVENT
BEGIN:VEVENT
DTSTART;VALUE=DATE:20260413
DTEND;VALUE=DATE:20260414
UID:0C4F77D0-7148-435A-BAC0-E74C7AC512B2
SUMMARY:Beginn Sommersemester 2026
CREATED:20260108T114833Z
DTSTAMP:20260108T114833Z
URL:https://www.adbk.de/de/component/dpcalendar/event/3074.html?calid=387
LAST-MODIFIED:20260108T114833Z
SEQUENCE:0
X-ACCESS:1
X-HITS:0
X-COLOR:3366cc
X-SHOW-END-TIME:0
END:VEVENT
BEGIN:VEVENT
DTSTART;VALUE=DATE:20260430
DTEND;VALUE=DATE:20260501
UID:DB1C9864-33D9-4FD1-A33D-593FE20ADF6E
SUMMARY:Ende Bewerbungsfrist Innenarchitektur
CREATED:20260108T115051Z
DTSTAMP:20260108T115051Z
URL:https://www.adbk.de/de/component/dpcalendar/event/3077.html?calid=387
LAST-MODIFIED:20260108T115051Z
SEQUENCE:0
X-ACCESS:1
X-HITS:0
X-COLOR:3366cc
X-SHOW-END-TIME:0
END:VEVENT
BEGIN:VEVENT
DTSTART;VALUE=DATE:20260515
DTEND;VALUE=DATE:20260516
UID:216E73BD-1C15-44A5-BD2C-F46C11A7C675
SUMMARY:Ende Bewerbungsfrist andere Studiengänge
CREATED:20260108T115217Z
DTSTAMP:20260108T115217Z
URL:https://www.adbk.de/de/component/dpcalendar/event/3078.html?calid=387
LAST-MODIFIED:20260108T115217Z
SEQUENCE:0
X-ACCESS:1
X-HITS:0
X-COLOR:3366cc
X-SHOW-END-TIME:0
END:VEVENT
BEGIN:VEVENT
DTSTART;VALUE=DATE:20260515
DTEND;VALUE=DATE:20260516
UID:B01D9B49-9906-4781-AFA6-54D9CB0258AD
SUMMARY:Deadline Application Incoming Exchange Students
CREATED:20260317T082734Z
DTSTAMP:20260317T082734Z
URL:https://www.adbk.de/de/component/dpcalendar/event/3082.html?calid=387
LAST-MODIFIED:20260317T082734Z
SEQUENCE:0
X-ACCESS:1
X-HITS:0
X-COLOR:3366cc
X-SHOW-END-TIME:0
END:VEVENT
BEGIN:VEVENT
DTSTART;VALUE=DATE:20260717
DTEND;VALUE=DATE:20260718
UID:CBA66172-7CEF-4068-B97C-E236F3D5B3C5
SUMMARY:Ende Sommersemester 2026
CREATED:20260108T114910Z
DTSTAMP:20260108T114910Z
URL:https://www.adbk.de/de/component/dpcalendar/event/3075.html?calid=387
LAST-MODIFIED:20260317T082124Z
SEQUENCE:5862734
X-ACCESS:1
X-HITS:0
X-COLOR:3366cc
X-SHOW-END-TIME:0
END:VEVENT
BEGIN:VEVENT
DTSTART;VALUE=DATE:20261012
DTEND;VALUE=DATE:20261013
UID:C8F13CFC-5CEC-4A84-B686-B38D1370FE15
SUMMARY:Beginn Wintersemester 2026/27
CREATED:20260317T082501Z
DTSTAMP:20260317T082501Z
URL:https://www.adbk.de/de/component/dpcalendar/event/3080.html?calid=387
LAST-MODIFIED:20260317T082501Z
SEQUENCE:0
X-ACCESS:1
X-HITS:0
X-COLOR:3366cc
X-SHOW-END-TIME:0
END:VEVENT
BEGIN:VEVENT
DTSTART;VALUE=DATE:20270205
DTEND;VALUE=DATE:20270206
UID:5A15ED1A-1469-435A-84AB-FE980550EBE0
SUMMARY:Ende Wintersemester 2026/27
CREATED:20260317T082550Z
DTSTAMP:20260317T082550Z
URL:https://www.adbk.de/de/component/dpcalendar/event/3081.html?calid=387
LAST-MODIFIED:20260317T082550Z
SEQUENCE:0
X-ACCESS:1
X-HITS:0
X-COLOR:3366cc
X-SHOW-END-TIME:0
END:VEVENT
END:VCALENDAR